BEGIN:VCALENDAR
VERSION:2.0
PRODID:-//Etang Lebreuil Arc-En-Ciel - ECPv6.15.20//NONSGML v1.0//EN
CALSCALE:GREGORIAN
METHOD:PUBLISH
X-ORIGINAL-URL:https://www.etanglebreuil-preutin.fr
X-WR-CALDESC:Évènements pour Etang Lebreuil Arc-En-Ciel
REFRESH-INTERVAL;VALUE=DURATION:PT1H
X-Robots-Tag:noindex
X-PUBLISHED-TTL:PT1H
BEGIN:VTIMEZONE
TZID:Europe/Paris
BEGIN:DAYLIGHT
TZOFFSETFROM:+0100
TZOFFSETTO:+0200
TZNAME:CEST
DTSTART:20240331T010000
END:DAYLIGHT
BEGIN:STANDARD
TZOFFSETFROM:+0200
TZOFFSETTO:+0100
TZNAME:CET
DTSTART:20241027T010000
END:STANDARD
BEGIN:DAYLIGHT
TZOFFSETFROM:+0100
TZOFFSETTO:+0200
TZNAME:CEST
DTSTART:20250330T010000
END:DAYLIGHT
BEGIN:STANDARD
TZOFFSETFROM:+0200
TZOFFSETTO:+0100
TZNAME:CET
DTSTART:20251026T010000
END:STANDARD
BEGIN:DAYLIGHT
TZOFFSETFROM:+0100
TZOFFSETTO:+0200
TZNAME:CEST
DTSTART:20260329T010000
END:DAYLIGHT
BEGIN:STANDARD
TZOFFSETFROM:+0200
TZOFFSETTO:+0100
TZNAME:CET
DTSTART:20261025T010000
END:STANDARD
END:VTIMEZONE
BEGIN:VEVENT
DTSTART;VALUE=DATE:20250214
DTEND;VALUE=DATE:20251102
DTSTAMP:20260422T035625
CREATED:20250213T222601Z
LAST-MODIFIED:20250503T150400Z
UID:1383-1739491200-1762041599@www.etanglebreuil-preutin.fr
SUMMARY:saison 2025
DESCRIPTION:À partir du 5 mai nouveau dirigeant \n½ journée de pêche 20€ \nJournée 30€ \nPêche à 1 canne \nL’étang est ouvert uniquement sur réservation \nSans réservation il n’y aura pas de pêche
URL:https://www.etanglebreuil-preutin.fr/event/saison-2025/
LOCATION:afpl etang le breuil arc en ciel\, 1 bis rue albert lebrun\, preutin higny\, 54490\, France
END:VEVENT
BEGIN:VEVENT
DTSTART;VALUE=DATE:20250622
DTEND;VALUE=DATE:20250623
DTSTAMP:20260422T035625
CREATED:20250428T212202Z
LAST-MODIFIED:20250428T212202Z
UID:1423-1750550400-1750636799@www.etanglebreuil-preutin.fr
SUMMARY:RESERVATION RETRAITE
DESCRIPTION:Etang fermé au public \nAucune réservation ne sera possible ce jour \n 
URL:https://www.etanglebreuil-preutin.fr/event/reservation-retraite/
LOCATION:afpl etang le breuil arc en ciel\, 1 bis rue albert lebrun\, preutin higny\, 54490\, France
END:VEVENT
BEGIN:VEVENT
DTSTART;VALUE=DATE:20250628
DTEND;VALUE=DATE:20250629
DTSTAMP:20260422T035625
CREATED:20250315T072405Z
LAST-MODIFIED:20250511T193607Z
UID:1398-1751068800-1751155199@www.etanglebreuil-preutin.fr
SUMMARY:FÊTE DU COCHON
DESCRIPTION:journée cochon a la broche ou barbecue\ncrudités /salade/fromage/dessert\nrepas a volonté\n30€ adultes 15.00€  moins de 12 ans\noffert moins de 7 ans\nApéro 11h30\nrepas servi environ 13h00\nréservations obligatoire avant le 21 Juin\npayement a la réservation  a l’étang ou en ligne( onglet nos services )\nbuvette assuré
URL:https://www.etanglebreuil-preutin.fr/event/fete-du-cochon-2/
LOCATION:afpl etang le breuil arc en ciel\, 1 bis rue albert lebrun\, preutin higny\, 54490\, France
END:VEVENT
END:VCALENDAR