BEGIN:VCALENDAR
VERSION:2.0
PRODID:-//Etang Lebreuil Arc-En-Ciel - ECPv6.15.20//NONSGML v1.0//EN
CALSCALE:GREGORIAN
METHOD:PUBLISH
X-ORIGINAL-URL:https://www.etanglebreuil-preutin.fr
X-WR-CALDESC:Évènements pour Etang Lebreuil Arc-En-Ciel
REFRESH-INTERVAL;VALUE=DURATION:PT1H
X-Robots-Tag:noindex
X-PUBLISHED-TTL:PT1H
BEGIN:VTIMEZONE
TZID:Europe/Paris
BEGIN:DAYLIGHT
TZOFFSETFROM:+0100
TZOFFSETTO:+0200
TZNAME:CEST
DTSTART:20250330T010000
END:DAYLIGHT
BEGIN:STANDARD
TZOFFSETFROM:+0200
TZOFFSETTO:+0100
TZNAME:CET
DTSTART:20251026T010000
END:STANDARD
BEGIN:DAYLIGHT
TZOFFSETFROM:+0100
TZOFFSETTO:+0200
TZNAME:CEST
DTSTART:20260329T010000
END:DAYLIGHT
BEGIN:STANDARD
TZOFFSETFROM:+0200
TZOFFSETTO:+0100
TZNAME:CET
DTSTART:20261025T010000
END:STANDARD
BEGIN:DAYLIGHT
TZOFFSETFROM:+0100
TZOFFSETTO:+0200
TZNAME:CEST
DTSTART:20270328T010000
END:DAYLIGHT
BEGIN:STANDARD
TZOFFSETFROM:+0200
TZOFFSETTO:+0100
TZNAME:CET
DTSTART:20271031T010000
END:STANDARD
END:VTIMEZONE
BEGIN:VEVENT
DTSTART;TZID=Europe/Paris:20260213T080000
DTEND;TZID=Europe/Paris:20261101T180000
DTSTAMP:20260419T174856
CREATED:20260213T205919Z
LAST-MODIFIED:20260318T080045Z
UID:1533-1770969600-1793556000@www.etanglebreuil-preutin.fr
SUMMARY:L'étang est désormais  privé
DESCRIPTION:L’étang n’est plus ouvert au publique et est désormais privé \nIl est impératif de réserver et payer sa  pèche 48 heures avant la date \nLe payement peux ce faire en ligne ou directement à l’étang \nToutes réservations non payé seront caduque \nUn alevinage toutes les 2 semaines sera effectué dans l’étang mais plus individuellement \nLes réservations événements restent inchangées
URL:https://www.etanglebreuil-preutin.fr/event/letang-est-desormais-prive/
END:VEVENT
END:VCALENDAR