BEGIN:VCALENDAR
VERSION:2.0
PRODID:-//Etang Lebreuil Arc-En-Ciel - ECPv6.15.20//NONSGML v1.0//EN
CALSCALE:GREGORIAN
METHOD:PUBLISH
X-WR-CALNAME:Etang Lebreuil Arc-En-Ciel
X-ORIGINAL-URL:https://www.etanglebreuil-preutin.fr
X-WR-CALDESC:Évènements pour Etang Lebreuil Arc-En-Ciel
REFRESH-INTERVAL;VALUE=DURATION:PT1H
X-Robots-Tag:noindex
X-PUBLISHED-TTL:PT1H
BEGIN:VTIMEZONE
TZID:Europe/Paris
BEGIN:DAYLIGHT
TZOFFSETFROM:+0100
TZOFFSETTO:+0200
TZNAME:CEST
DTSTART:20230326T010000
END:DAYLIGHT
BEGIN:STANDARD
TZOFFSETFROM:+0200
TZOFFSETTO:+0100
TZNAME:CET
DTSTART:20231029T010000
END:STANDARD
BEGIN:DAYLIGHT
TZOFFSETFROM:+0100
TZOFFSETTO:+0200
TZNAME:CEST
DTSTART:20240331T010000
END:DAYLIGHT
BEGIN:STANDARD
TZOFFSETFROM:+0200
TZOFFSETTO:+0100
TZNAME:CET
DTSTART:20241027T010000
END:STANDARD
BEGIN:DAYLIGHT
TZOFFSETFROM:+0100
TZOFFSETTO:+0200
TZNAME:CEST
DTSTART:20250330T010000
END:DAYLIGHT
BEGIN:STANDARD
TZOFFSETFROM:+0200
TZOFFSETTO:+0100
TZNAME:CET
DTSTART:20251026T010000
END:STANDARD
END:VTIMEZONE
BEGIN:VEVENT
DTSTART;VALUE=DATE:20240317
DTEND;VALUE=DATE:20241102
DTSTAMP:20260425T043347
CREATED:20240313T161436Z
LAST-MODIFIED:20240728T213734Z
UID:1290-1710633600-1730505599@www.etanglebreuil-preutin.fr
SUMMARY:CHANGEMENT DE TARIF
DESCRIPTION:A partir du 17 Mars nous changeons nos tarif de pêche.\nUn tarif unique de 30\,00€ sera appliqué \ntoutes les 2 semaines 25kg de truites seront mis a l’eau \nRéservation impératif\nPayement en ligne ou a l’étang \n 
URL:https://www.etanglebreuil-preutin.fr/event/changement-de-tarif/
END:VEVENT
BEGIN:VEVENT
DTSTART;VALUE=DATE:20240817
DTEND;VALUE=DATE:20240818
DTSTAMP:20260425T043347
CREATED:20240809T194438Z
LAST-MODIFIED:20240809T194438Z
UID:1366-1723852800-1723939199@www.etanglebreuil-preutin.fr
SUMMARY:BROCHETTE FACON AFPL
DESCRIPTION:Venez nous rejoindre le 17 AOÛT à 12H00 !Le repas sera composé de brochettes marinées maison avec différentes salades en accompagnement / de fromage et salade verte / d’un dessert.\nTarif adulte : 30 eurosTarif -13 ans : 15 eurosTarif -7 ans : REPAS OFFERTLe payement et la réservation s’effectue directement sur notre site internet avant le 14 AOÛT ! Ou en direct à l’étang. https://www.payasso.fr/etanglebreuil/reservations
URL:https://www.etanglebreuil-preutin.fr/event/brochette-facon-afpl/
END:VEVENT
END:VCALENDAR