BEGIN:VCALENDAR
VERSION:2.0
PRODID:-//Etang Lebreuil Arc-En-Ciel - ECPv6.15.20//NONSGML v1.0//EN
CALSCALE:GREGORIAN
METHOD:PUBLISH
X-WR-CALNAME:Etang Lebreuil Arc-En-Ciel
X-ORIGINAL-URL:https://www.etanglebreuil-preutin.fr
X-WR-CALDESC:Évènements pour Etang Lebreuil Arc-En-Ciel
REFRESH-INTERVAL;VALUE=DURATION:PT1H
X-Robots-Tag:noindex
X-PUBLISHED-TTL:PT1H
BEGIN:VTIMEZONE
TZID:Europe/Paris
BEGIN:DAYLIGHT
TZOFFSETFROM:+0100
TZOFFSETTO:+0200
TZNAME:CEST
DTSTART:20230326T010000
END:DAYLIGHT
BEGIN:STANDARD
TZOFFSETFROM:+0200
TZOFFSETTO:+0100
TZNAME:CET
DTSTART:20231029T010000
END:STANDARD
BEGIN:DAYLIGHT
TZOFFSETFROM:+0100
TZOFFSETTO:+0200
TZNAME:CEST
DTSTART:20240331T010000
END:DAYLIGHT
BEGIN:STANDARD
TZOFFSETFROM:+0200
TZOFFSETTO:+0100
TZNAME:CET
DTSTART:20241027T010000
END:STANDARD
BEGIN:DAYLIGHT
TZOFFSETFROM:+0100
TZOFFSETTO:+0200
TZNAME:CEST
DTSTART:20250330T010000
END:DAYLIGHT
BEGIN:STANDARD
TZOFFSETFROM:+0200
TZOFFSETTO:+0100
TZNAME:CET
DTSTART:20251026T010000
END:STANDARD
END:VTIMEZONE
BEGIN:VEVENT
DTSTART;VALUE=DATE:20240316
DTEND;VALUE=DATE:20240317
DTSTAMP:20260425T134515
CREATED:20240205T205531Z
LAST-MODIFIED:20240226T142613Z
UID:1260-1710547200-1710633599@www.etanglebreuil-preutin.fr
SUMMARY:OUVERTURE SAISON REPORTEE
DESCRIPTION:Nous sommes désolés de vous informer que l’ouverture de la saison est reportée au 16 Mars pour raison médicale. \nRéservation obligatoire a l’étang ou en ligne (nos services)\n2 kg de truites de 350g déversées par pêcheurs\nGrosse truite tous les 3 pêcheurs\nTarif unique sans repas 40 €\nTarif unique avec repas  60 €\nClôture des réservations le 9 Mars \n 
URL:https://www.etanglebreuil-preutin.fr/event/ouverture-de-la-truite/
ATTACH;FMTTYPE=image/jpeg:https://www.etanglebreuil-preutin.fr/wp-content/uploads/2023/05/Truite_1600x780-470x280-1.jpg
END:VEVENT
END:VCALENDAR