BEGIN:VCALENDAR
VERSION:2.0
PRODID:-//Etang Lebreuil Arc-En-Ciel - ECPv6.15.20//NONSGML v1.0//EN
CALSCALE:GREGORIAN
METHOD:PUBLISH
X-WR-CALNAME:Etang Lebreuil Arc-En-Ciel
X-ORIGINAL-URL:https://www.etanglebreuil-preutin.fr
X-WR-CALDESC:Évènements pour Etang Lebreuil Arc-En-Ciel
REFRESH-INTERVAL;VALUE=DURATION:PT1H
X-Robots-Tag:noindex
X-PUBLISHED-TTL:PT1H
BEGIN:VTIMEZONE
TZID:Europe/Paris
BEGIN:DAYLIGHT
TZOFFSETFROM:+0100
TZOFFSETTO:+0200
TZNAME:CEST
DTSTART:20220327T010000
END:DAYLIGHT
BEGIN:STANDARD
TZOFFSETFROM:+0200
TZOFFSETTO:+0100
TZNAME:CET
DTSTART:20221030T010000
END:STANDARD
BEGIN:DAYLIGHT
TZOFFSETFROM:+0100
TZOFFSETTO:+0200
TZNAME:CEST
DTSTART:20230326T010000
END:DAYLIGHT
BEGIN:STANDARD
TZOFFSETFROM:+0200
TZOFFSETTO:+0100
TZNAME:CET
DTSTART:20231029T010000
END:STANDARD
BEGIN:DAYLIGHT
TZOFFSETFROM:+0100
TZOFFSETTO:+0200
TZNAME:CEST
DTSTART:20240331T010000
END:DAYLIGHT
BEGIN:STANDARD
TZOFFSETFROM:+0200
TZOFFSETTO:+0100
TZNAME:CET
DTSTART:20241027T010000
END:STANDARD
END:VTIMEZONE
BEGIN:VEVENT
DTSTART;VALUE=DATE:20230722
DTEND;VALUE=DATE:20230723
DTSTAMP:20260426T025418
CREATED:20230705T193855Z
LAST-MODIFIED:20230705T193855Z
UID:1203-1689984000-1690070399@www.etanglebreuil-preutin.fr
SUMMARY:BROCHETTE MAISON
DESCRIPTION:Journée brochettes façons AFPL étang le breuil\nsalade/fromage/dessert (hors boisson)\nRéservation obligatoire à l’étang ou en ligne avant le 17 juillet 2023\n25 € par adulte\nEnfant nous consulter\nComme toujours repas a volonté \n \n  \n 
URL:https://www.etanglebreuil-preutin.fr/event/brochette-maison/
LOCATION:afpl etang le breuil arc en ciel\, 1 bis rue albert lebrun\, preutin higny\, 54490\, France
END:VEVENT
END:VCALENDAR